BEGIN:VCALENDAR
VERSION:2.0
PRODID:-//sebbo.net//ical-generator//EN
BEGIN:VEVENT
UID:83573ae4-8c22-4c43-98bb-a8f88d0ee5ad
SEQUENCE:0
DTSTAMP:20260421T044920Z
DTSTART:20260923T170000Z
DTEND:20260923T200000Z
SUMMARY:Gwen Dolyn - "X-Rated-Feelings-Tour“ - Hamburg - Hafenklang
LOCATION:Hafenklang\, Große Elbstraße 84\, 22767 Hamburg\, Germany
DESCRIPTION:Doors: 19:00 Uhr\, Start: 20:00
END:VEVENT
END:VCALENDAR